BEGIN:VCALENDAR
VERSION:2.0
PRODID:-//Positivity Coaching - ECPv6.15.12.2//NONSGML v1.0//EN
CALSCALE:GREGORIAN
METHOD:PUBLISH
X-WR-CALNAME:Positivity Coaching
X-ORIGINAL-URL:https://positivity.gr
X-WR-CALDESC:Events for Positivity Coaching
REFRESH-INTERVAL;VALUE=DURATION:PT1H
X-Robots-Tag:noindex
X-PUBLISHED-TTL:PT1H
BEGIN:VTIMEZONE
TZID:Europe/Athens
BEGIN:DAYLIGHT
TZOFFSETFROM:+0200
TZOFFSETTO:+0300
TZNAME:EEST
DTSTART:20230326T010000
END:DAYLIGHT
BEGIN:STANDARD
TZOFFSETFROM:+0300
TZOFFSETTO:+0200
TZNAME:EET
DTSTART:20231029T010000
END:STANDARD
BEGIN:DAYLIGHT
TZOFFSETFROM:+0200
TZOFFSETTO:+0300
TZNAME:EEST
DTSTART:20240331T010000
END:DAYLIGHT
BEGIN:STANDARD
TZOFFSETFROM:+0300
TZOFFSETTO:+0200
TZNAME:EET
DTSTART:20241027T010000
END:STANDARD
BEGIN:DAYLIGHT
TZOFFSETFROM:+0200
TZOFFSETTO:+0300
TZNAME:EEST
DTSTART:20250330T010000
END:DAYLIGHT
BEGIN:STANDARD
TZOFFSETFROM:+0300
TZOFFSETTO:+0200
TZNAME:EET
DTSTART:20251026T010000
END:STANDARD
END:VTIMEZONE
BEGIN:VEVENT
DTSTART;TZID=Europe/Athens:20240418T160000
DTEND;TZID=Europe/Athens:20240418T170000
DTSTAMP:20260421T184713
CREATED:20240209T135142Z
LAST-MODIFIED:20240211T102213Z
UID:3086-1713456000-1713459600@positivity.gr
SUMMARY:I am a Life Coach
DESCRIPTION:Τι χαρακτηριστικά πρέπει να έχει ένας life coach και γιατί να τον επιλέξει ο πελάτης; Το webinar “I am a Life Coach” αφορά την ταυτότητα ενός life coach και τους λόγους που ένας πελάτης επιλέγει και επωφελείται από τη συνεργασία με έναν life coach.
URL:https://positivity.gr/event/i-am-a-life-coach/
LOCATION:Online Webinar
CATEGORIES:Positivity Webinars
ATTACH;FMTTYPE=image/png:https://positivity.gr/wp-content/uploads/2024/02/Σεραφείμ-Δημόκας-Medium-Banner.png
END:VEVENT
BEGIN:VEVENT
DTSTART;TZID=Europe/Athens:20240412T160000
DTEND;TZID=Europe/Athens:20240412T170000
DTSTAMP:20260421T184713
CREATED:20240209T134348Z
LAST-MODIFIED:20240408T082548Z
UID:3084-1712937600-1712941200@positivity.gr
SUMMARY:Leadership Coaching Workshop
DESCRIPTION:Ποια είναι τα στυλ ηγεσίας και ποιο ανταποκρίνεται στις δικές σας ανάγκες; Σε αυτό το webinar θα μιλήσουμε για διαχείριση συγκρούσεων\, τον ρόλο του coaching στην αποτελεσματική ηγεσία και τους τρόπους αύξησης της αυτογνωσίας και αυτεπίγνωσης. Ελάτε να συμμετάσχετε στα παιχνίδια ρόλων για τη σωστή αξιοποίηση των επικοινωνιακών σας δεξιοτήτων και να φτιάξουμε μαζί ένα προσωπικό πλάνο δράσης για την ηγεσία!
URL:https://positivity.gr/event/leadership-coaching-workshop/
LOCATION:Online Webinar
CATEGORIES:Positivity Webinars
ATTACH;FMTTYPE=image/png:https://positivity.gr/wp-content/uploads/2024/02/Λία-Μπισμπίκη-Medium-Banner-1.png
END:VEVENT
BEGIN:VEVENT
DTSTART;TZID=Europe/Athens:20240327T160000
DTEND;TZID=Europe/Athens:20240327T170000
DTSTAMP:20260421T184713
CREATED:20240209T135039Z
LAST-MODIFIED:20240301T110535Z
UID:3085-1711555200-1711558800@positivity.gr
SUMMARY:Αποτελεσματική ομάδα και ηγεσία
DESCRIPTION:Τι δεξιότητες χρειάζεται ένας coach για να προάγει την αποτελεσματική ηγεσία; Το coaching σχετίζεται άμεσα με ό\, τι αφορά τους στόχους της ομάδας\, πόσο ξεκάθαροι και πραγματοποιήσιμοι είναι\, και παράλληλα με τον ηγέτη και τα ιδιαίτερα χαρακτηριστικά του. Στο τέλος του webinar “Αποτελεσματική ομάδα και ηγεσία”\, οι συμμετέχοντες θα έχουν μία σαφή εικόνα των βασικών στοιχείων που μπορούν να χαρακτηρίσουν μία ομάδα αποτελεσματική\, το ρόλο του ηγέτη μέσα σ’ αυτήν και πώς βασικές αρχές του coaching μπορούν να οδηγήσουν σ’ αυτό το αποτέλεσμα.
URL:https://positivity.gr/event/%ce%b1%cf%80%ce%bf%cf%84%ce%b5%ce%bb%ce%b5%cf%83%ce%bc%ce%b1%cf%84%ce%b9%ce%ba%ce%ae-%ce%bf%ce%bc%ce%ac%ce%b4%ce%b1-%ce%ba%ce%b1%ce%b9-%ce%b7%ce%b3%ce%b5%cf%83%ce%af%ce%b1/
LOCATION:Online Webinar
CATEGORIES:Positivity Webinars
ATTACH;FMTTYPE=image/png:https://positivity.gr/wp-content/uploads/2024/02/Μάχη-Κυπραίου-Medium-Banner.png
END:VEVENT
BEGIN:VEVENT
DTSTART;TZID=Europe/Athens:20240229T160000
DTEND;TZID=Europe/Athens:20240229T170000
DTSTAMP:20260421T184713
CREATED:20240209T133039Z
LAST-MODIFIED:20240211T101951Z
UID:3083-1709222400-1709226000@positivity.gr
SUMMARY:Διαδικτυακό coaching: Πώς είναι να εργάζεσαι ως coach με ανθρώπους απ’  όλο τον κόσμο
DESCRIPTION:Μάθετε πώς να εξασκήσετε το coaching διαδικτυακά. Με την παρουσίαση και τις διερευνητικές ερωτήσεις του webinar θα ανακαλύψετε τα οφέλη του διαδικτύου στην πρακτική κάθε coach και θα ανοίξετε νέους ορίζοντες στην παροχή των υπηρεσιών σας!
URL:https://positivity.gr/event/%ce%b4%ce%b9%ce%b1%ce%b4%ce%b9%ce%ba%cf%84%cf%85%ce%b1%ce%ba%cf%8c-coaching-%cf%80%cf%8e%cf%82-%ce%b5%ce%af%ce%bd%ce%b1%ce%b9-%ce%bd%ce%b1-%ce%b5%cf%81%ce%b3%ce%ac%ce%b6%ce%b5%cf%83%ce%b1%ce%b9/
LOCATION:Online Webinar
CATEGORIES:Positivity Webinars
ATTACH;FMTTYPE=image/png:https://positivity.gr/wp-content/uploads/2024/02/Τ.-Ανρουκάκη-Webinar-Medium-Banner.png
END:VEVENT
BEGIN:VEVENT
DTSTART;TZID=Europe/Athens:20240222T160000
DTEND;TZID=Europe/Athens:20240222T170000
DTSTAMP:20260421T184713
CREATED:20240209T131123Z
LAST-MODIFIED:20240211T101308Z
UID:3066-1708617600-1708621200@positivity.gr
SUMMARY:Professional Branding for Professional Coaches
DESCRIPTION:Πώς θα εφαρμόσετε τις 10 αρχές του branding επικοινωνώντας σωστά την αυθεντικότητά σας; Μάθετε για το professional branding σας ως coach\, αλλά και την εναρμόνισή του με τον κώδικα δεοντολογίας.
URL:https://positivity.gr/event/professional-branding-for-professional-coaches/
LOCATION:Online Webinar
CATEGORIES:Positivity Webinars
ATTACH;FMTTYPE=image/png:https://positivity.gr/wp-content/uploads/2024/02/Μ.-Γαργαλιάνου-Webinar-Medium-Banner-US-Landscape.png
END:VEVENT
END:VCALENDAR